BEGIN:VCALENDAR
VERSION:2.0
PRODID:-//Tukios.com/
BEGIN:VEVENT
UID:bb3b63d5-911b-4e08-bdd6-338634a5e782@www.dovetopeka.com
DTSTAMP:20260422T080201Z
DTSTART:20260429T150000Z
DTEND:20260429T160000Z
SUMMARY:Mass
DESCRIPTION:
URL:https://www.dovetopeka.com/obituaries/donna-bramlage
LOCATION: 5973 Southwest 25th Street  Topeka KS 66614
GEO:39.0201918;-95.7613564
END:VEVENT
END:VCALENDAR