BEGIN:VCALENDAR
VERSION:2.0
PRODID:-//Tukios.com/
BEGIN:VEVENT
UID:044107f3-a31c-4426-bae2-9109aeb3394e@www.dovetopeka.com
DTSTAMP:20260422T075753Z
DTSTART:20260429T150000Z
DTEND:20260429T160000Z
SUMMARY:Inurnment
DESCRIPTION:
URL:https://www.dovetopeka.com/obituaries/donna-bramlage
LOCATION:  Southwest Hodges Road   KS 
GEO:38.9412112;-95.8357758
END:VEVENT
END:VCALENDAR