BEGIN:VCALENDAR
VERSION:2.0
PRODID:-//Tukios.com/
BEGIN:VEVENT
UID:22bba2d0-bfcb-4b32-8fa1-2d4ad8d6a46a@www.dovetopeka.com
DTSTAMP:20260421T000425Z
DTSTART:20260502T143000Z
DTEND:20260502T160000Z
SUMMARY:Visitation
DESCRIPTION:
URL:https://www.dovetopeka.com/obituaries/michael-daugherty
LOCATION: 2843 Southeast Minnesota Avenue  Topeka KS 66605
GEO:39.0155642;-95.6559958
END:VEVENT
END:VCALENDAR